BEGIN:VCALENDAR
PRODID:-//eluceo/ical//2.0/EN
VERSION:2.0
CALSCALE:GREGORIAN
BEGIN:VEVENT
UID:5bfed90c450c14cf2fab34907344d781
DTSTAMP:20260422T001316Z
SUMMARY:Corie Adjmi - The Marriage Box
DESCRIPTION:Tidewater Jewish Foundation\nCalendar\nhttps://foundation.jewis
 hva.org/calendar/tentative-lee-and-bernard-jaffe-family-jewish-book-festiv
 al-program-1686250368-440114\n\nCorie Adjmi - The Marriage Box\n\n \n\n(P
 lease allow information below to load)
DTSTART;TZID=America/New_York:20231120T120000
DTEND;TZID=America/New_York:20231120T130000
END:VEVENT
END:VCALENDAR
