BEGIN:VCALENDAR
PRODID:-//eluceo/ical//2.0/EN
VERSION:2.0
CALSCALE:GREGORIAN
BEGIN:VEVENT
UID:7fed74285dca416e09663abf76ccc291
DTSTAMP:20260422T213725Z
SUMMARY:Tentative YAD social action event
DESCRIPTION:Tidewater Jewish Foundation\nCalendar\nhttps://foundation.jewis
 hva.org/calendar/tentative-yad-social-action-event-1732023405-480678\n\nMo
 re information to come
DTSTART;TZID=America/New_York:20250126T083000
DTEND;TZID=America/New_York:20250126T200000
END:VEVENT
END:VCALENDAR
