BEGIN:VCALENDAR
PRODID:-//eluceo/ical//2.0/EN
VERSION:2.0
CALSCALE:GREGORIAN
BEGIN:VEVENT
UID:fe55313165559b46a94d17dd805dc629
DTSTAMP:20260420T075806Z
SUMMARY:The Bogrim Program pool party and information event
DESCRIPTION:Tidewater Jewish Foundation\nCalendar\nhttps://foundation.jewis
 hva.org/calendar/the-bogrim-program-pool-party-and-information-event-17189
 86553-470174\n\nCome learn about the Bogrim Program and have fun in the po
 ol. From 12:00-3:00.\n\nHamburgers\, Kosher hot dogs\, drinks and chip wil
 l be provided.\nRSVPs are required by August 16\, 2024\, to sharonj@bethel
 norfolk.com\nLocation details will be provided after rsvp is received.\n\n
 The Bogrim Program Bogrim meets from 9:00-12:00 once a month on Sundays fo
 llowing the same calendar as PSARS. It is open to 8th-12th graders\, regar
 dless of synagogue affiliation. The Bogrim Program help our teens grow as.
 ..
DTSTART;TZID=America/New_York:20240825T120000
DTEND;TZID=America/New_York:20240825T150000
END:VEVENT
END:VCALENDAR
