BEGIN:VCALENDAR
PRODID:-//eluceo/ical//2.0/EN
VERSION:2.0
CALSCALE:GREGORIAN
BEGIN:VEVENT
UID:0049bf58dc56718af806e1d818aed25d
DTSTAMP:20260423T234136Z
SUMMARY:The Daffodil Project
DESCRIPTION:Tidewater Jewish Foundation\nCalendar\nhttps://foundation.jewis
 hva.org/calendar/the-daffodil-project-1696879231-449962\n\nThe Jewish Muse
 um and Cultural Center invites the Tidewater Community to join in the plan
 ting of daffodil bulbs to honor the 1.5 children who perished in the Holoc
 aust and all children who suffer from violence. Bulbs can be purchased in 
 quantities of 50 bulbs for $36\, or 100 bulbs for $72 from www.jewishmuseu
 mportsmouth.org. There will be children&#39\;s crafts\, music and snacks f
 or all to enjoy.
DTSTART;TZID=America/New_York:20231022T110000
DTEND;TZID=America/New_York:20231022T150000
END:VEVENT
END:VCALENDAR
