BEGIN:VCALENDAR
PRODID:-//eluceo/ical//2.0/EN
VERSION:2.0
CALSCALE:GREGORIAN
BEGIN:VEVENT
UID:1b19b703da0792c151385a2ba569d952
DTSTAMP:20260420T115856Z
SUMMARY:The movie " the Juggler" featured at The Jewish Museum & Cultural C
 enter
DESCRIPTION:Tidewater Jewish Foundation\nCalendar\nhttps://foundation.jewis
 hva.org/calendar/the-movie--the-juggler-featured-at-the-jewish-museum--cul
 tural-center-1733348799-481601\n\nThe Saturdays at Seven Cinema series is 
 opening with the 1953 movie "the Juggler" starring Kirt Douglas\, Milly Vi
 tale\, and Paul Stewert on Saturday\, January 4\, 2025. This is a free eve
 nt.  Donations are always welcome and appreciated.
DTSTART;TZID=America/New_York:20250104T190000
DTEND;TZID=America/New_York:20250104T210000
END:VEVENT
END:VCALENDAR
