BEGIN:VCALENDAR
PRODID:-//eluceo/ical//2.0/EN
VERSION:2.0
CALSCALE:GREGORIAN
BEGIN:VEVENT
UID:6326818217db9df1b03c16f2401df57a
DTSTAMP:20260421T081049Z
SUMMARY:The movie Ivanhoe(1952) will be playing at the JMCC
DESCRIPTION:Tidewater Jewish Foundation\nCalendar\nhttps://foundation.jewis
 hva.org/calendar/the-movie-ivanhoe1952-will-be-playing-at-the-jmcc-1703022
 870-454438\n\nThe movie Ivanhoe (1952) starring Robert Taylor\, Elizabeth 
 Taylor\, Joan Fontaine and George Sanders\nwill be shown Saturday evening 
 at 7:00 p.m. at The Jewish Museum and Cultural Center.  Rabbi Michael Pani
 tz will be introducing the movie.  There is a suggested donation of $5.
DTSTART;TZID=America/New_York:20240127T190000
DTEND;TZID=America/New_York:20240127T210000
END:VEVENT
END:VCALENDAR
