BEGIN:VCALENDAR
PRODID:-//eluceo/ical//2.0/EN
VERSION:2.0
CALSCALE:GREGORIAN
BEGIN:VEVENT
UID:d12c4658952ef6b7566a7ecdb10a1274
DTSTAMP:20260425T212410Z
SUMMARY:The Simon Family JCC Seniors Seder
DESCRIPTION:Tidewater Jewish Foundation\nCalendar\nhttps://foundation.jewis
 hva.org/calendar/the-simon-family-jcc-seniors-seder-1674503650-430051\n\nS
 eniors Annual Passover Seder\nJoin the Simon Family JCC Seniors for their 
 annual Model Seder - open to the entire senior community.\nTickets for lun
 ch and seder - $10\nPre-registration is required. Space is limited.\nRegis
 tration begins 2/6/23 and ends on 3/22/23.\n\nRegister Today
DTSTART;TZID=America/New_York:20230329T120000
DTEND;TZID=America/New_York:20230329T140000
END:VEVENT
END:VCALENDAR
