BEGIN:VCALENDAR
PRODID:-//eluceo/ical//2.0/EN
VERSION:2.0
CALSCALE:GREGORIAN
BEGIN:VEVENT
UID:8335580a137b0cbf96172ca782142f16
DTSTAMP:20260419T143443Z
SUMMARY:The Undiscovered Country: Jewish Views of the Afterlife
DESCRIPTION:Tidewater Jewish Foundation\nCalendar\nhttps://foundation.jewis
 hva.org/calendar/the-undiscovered-country-jewish-views-of-the-afterlife-17
 35670615-485882\n\nAn 8-week course taught by Rabbi Michael Panitz. Offere
 d through the Konikoff Center for Learning of the United Jewish Federation
  of Tidewater.\n\nPlease allow a moment for information and registration t
 o load below.
DTSTART;TZID=America/New_York:20250408T123000
DTEND;TZID=America/New_York:20250408T140000
END:VEVENT
END:VCALENDAR
