BEGIN:VCALENDAR
PRODID:-//eluceo/ical//2.0/EN
VERSION:2.0
CALSCALE:GREGORIAN
BEGIN:VEVENT
UID:9f270c8d4a28ccbb96f975ede31c23ae
DTSTAMP:20260425T203758Z
SUMMARY:"The Yellow Ticket" a 1931 drama
DESCRIPTION:Tidewater Jewish Foundation\nCalendar\nhttps://foundation.jewis
 hva.org/calendar/the-yellow-ticket-a-1931-drama-1672181299-424482\n\nRabbi
  Michael Panitz of  Norfolk's Temple Israel will host this film.  Light re
 freshments are provided\, and discussion will follow the movie.  A $5 dona
 tion is suggested.
DTSTART;TZID=America/New_York:20230121T190000
DTEND;TZID=America/New_York:20230121T210000
END:VEVENT
END:VCALENDAR
