BEGIN:VCALENDAR
PRODID:-//eluceo/ical//2.0/EN
VERSION:2.0
CALSCALE:GREGORIAN
BEGIN:VEVENT
UID:c8d7b6b5dabb05784cad82e1d99663c5
DTSTAMP:20260422T041145Z
SUMMARY:TI Pink Social
DESCRIPTION:Tidewater Jewish Foundation\nCalendar\nhttps://foundation.jewis
 hva.org/calendar/ti-pink-social-1694094150-447640\n\nCelebrating Breast Ca
 ncer Survivors
DTSTART;TZID=America/New_York:20231029T140000
DTEND;TZID=America/New_York:20231029T160000
END:VEVENT
END:VCALENDAR
