BEGIN:VCALENDAR
PRODID:-//eluceo/ical//2.0/EN
VERSION:2.0
CALSCALE:GREGORIAN
BEGIN:VEVENT
UID:5bff81876a197fc94cac45635e1f77c2
DTSTAMP:20260424T140540Z
SUMMARY:Tidewater  Chavurah's 2nd Friday Shabbat
DESCRIPTION:Tidewater Jewish Foundation\nCalendar\nhttps://foundation.jewis
 hva.org/calendar/tidewater--chavurahs-2nd-friday-shabbat-1669823281-422775
 \n\nSecond Friday Shabbat Service in person and by Zoom .
DTSTART;TZID=America/New_York:20230512T190000
DTEND;TZID=America/New_York:20230512T210000
END:VEVENT
END:VCALENDAR
