BEGIN:VCALENDAR
PRODID:-//eluceo/ical//2.0/EN
VERSION:2.0
CALSCALE:GREGORIAN
BEGIN:VEVENT
UID:328de48bb5b2b112d9fa8c886a8bc4f4
DTSTAMP:20260423T014125Z
SUMMARY:Tidewater  Chavurah's 2nd Friday Shabbat
DESCRIPTION:Tidewater Jewish Foundation\nCalendar\nhttps://foundation.jewis
 hva.org/calendar/tidewater--chavurahs-2nd-friday-shabbat-1669823281-422779
 \n\nSecond Friday Shabbat Service in person and by Zoom .
DTSTART;TZID=America/New_York:20230811T190000
DTEND;TZID=America/New_York:20230811T210000
END:VEVENT
END:VCALENDAR
