BEGIN:VCALENDAR
PRODID:-//eluceo/ical//2.0/EN
VERSION:2.0
CALSCALE:GREGORIAN
BEGIN:VEVENT
UID:aba1389f7210c35909b87c417b854f59
DTSTAMP:20260424T183656Z
SUMMARY:Tidewater  Chavurah's 2nd Friday Shabbat
DESCRIPTION:Tidewater Jewish Foundation\nCalendar\nhttps://foundation.jewis
 hva.org/calendar/tidewater--chavurahs-2nd-friday-shabbat-1669823281-422780
 \n\nSecond Friday Shabbat Service in person and by Zoom .
DTSTART;TZID=America/New_York:20230908T190000
DTEND;TZID=America/New_York:20230908T210000
END:VEVENT
END:VCALENDAR
