BEGIN:VCALENDAR
PRODID:-//eluceo/ical//2.0/EN
VERSION:2.0
CALSCALE:GREGORIAN
BEGIN:VEVENT
UID:ad0cf429ad6fb47a0b0107dbad5c55af
DTSTAMP:20260421T102604Z
SUMMARY:Tidewater Jewish Foundation Investment Committee
DESCRIPTION:Tidewater Jewish Foundation\nCalendar\nhttps://foundation.jewis
 hva.org/calendar/tidewater-jewish-foundation-investment-committee\n\nTJF I
 nvestment Committee
DTSTART;TZID=America/New_York:20240515T120000
DTEND;TZID=America/New_York:20240515T140000
END:VEVENT
END:VCALENDAR
