BEGIN:VCALENDAR
PRODID:-//eluceo/ical//2.0/EN
VERSION:2.0
CALSCALE:GREGORIAN
BEGIN:VEVENT
UID:8e9bbabde6453b1ba773e2f59ec2c88d
DTSTAMP:20260421T211435Z
SUMMARY:Tidewater Jewish Foundation Nominating Committee
DESCRIPTION:Tidewater Jewish Foundation\nCalendar\nhttps://foundation.jewis
 hva.org/calendar/tidewater-jewish-foundation-nominating-committee\n\nTJF N
 ominating Committee
DTSTART;TZID=America/New_York:20240417T120000
DTEND;TZID=America/New_York:20240417T130000
END:VEVENT
END:VCALENDAR
