BEGIN:VCALENDAR
PRODID:-//eluceo/ical//2.0/EN
VERSION:2.0
CALSCALE:GREGORIAN
BEGIN:VEVENT
UID:b1378b21064a9360d4065fa91beb23f1
DTSTAMP:20260423T070724Z
SUMMARY:TJF Audit & Finance
DESCRIPTION:Tidewater Jewish Foundation\nCalendar\nhttps://foundation.jewis
 hva.org/calendar/tjf-audit-finance\n\nTJF Audit & Finance Committee
DTSTART;TZID=America/New_York:20230828T120000
DTEND;TZID=America/New_York:20230828T140000
END:VEVENT
END:VCALENDAR
