BEGIN:VCALENDAR
PRODID:-//eluceo/ical//2.0/EN
VERSION:2.0
CALSCALE:GREGORIAN
BEGIN:VEVENT
UID:2cbc29d9879b5b760417652d9071d581
DTSTAMP:20260421T010255Z
SUMMARY:TJF Audit & Finance Committee
DESCRIPTION:Tidewater Jewish Foundation\nCalendar\nhttps://foundation.jewis
 hva.org/calendar/tjf-audit-finance-committee\n\nTJF Audit & Finance Commit
 tee
DTSTART;TZID=America/New_York:20240529T120000
DTEND;TZID=America/New_York:20240529T140000
END:VEVENT
END:VCALENDAR
