BEGIN:VCALENDAR
PRODID:-//eluceo/ical//2.0/EN
VERSION:2.0
CALSCALE:GREGORIAN
BEGIN:VEVENT
UID:39606ea9dafadb7653274c860c2ec83e
DTSTAMP:20260424T225636Z
SUMMARY:TJF Audit & Finance Committee Meeting
DESCRIPTION:Tidewater Jewish Foundation\nCalendar\nhttps://foundation.jewis
 hva.org/calendar/tjf-audit-finance-committee-meeting\n\nTJF Audit & Financ
 e Committee
DTSTART;TZID=America/New_York:20231129T120000
DTEND;TZID=America/New_York:20231129T140000
END:VEVENT
END:VCALENDAR
