BEGIN:VCALENDAR
PRODID:-//eluceo/ical//2.0/EN
VERSION:2.0
CALSCALE:GREGORIAN
BEGIN:VEVENT
UID:a98fbcefc8f9d838131a5c61e8c9fcb4
DTSTAMP:20260422T000519Z
SUMMARY:TJF Board of Directors
DESCRIPTION:Tidewater Jewish Foundation\nCalendar\nhttps://foundation.jewis
 hva.org/calendar/tjf-board-of-directors\n\nTJF Board of Directors
DTSTART;TZID=America/New_York:20240610T060000
DTEND;TZID=America/New_York:20240610T200000
END:VEVENT
END:VCALENDAR
