BEGIN:VCALENDAR
PRODID:-//eluceo/ical//2.0/EN
VERSION:2.0
CALSCALE:GREGORIAN
BEGIN:VEVENT
UID:418ffc13a8827fbb5734fac0d12b18c1
DTSTAMP:20260425T211718Z
SUMMARY:TJF Board of Directors
DESCRIPTION:Tidewater Jewish Foundation\nCalendar\nhttps://foundation.jewis
 hva.org/calendar/tjf-board-of-directors-dec-2022\n\nMeeting room TBD.
DTSTART;TZID=America/New_York:20221214T180000
DTEND;TZID=America/New_York:20221214T200000
END:VEVENT
END:VCALENDAR
