BEGIN:VCALENDAR
PRODID:-//eluceo/ical//2.0/EN
VERSION:2.0
CALSCALE:GREGORIAN
BEGIN:VEVENT
UID:7e6d1c08bc6397fc74457f2917b9cd59
DTSTAMP:20260423T160155Z
SUMMARY:TJF Board of Directors
DESCRIPTION:Tidewater Jewish Foundation\nCalendar\nhttps://foundation.jewis
 hva.org/calendar/tjf-board-of-directors-jun-2023\n\nMeeting room KBR
DTSTART;TZID=America/New_York:20230628T180000
DTEND;TZID=America/New_York:20230628T200000
END:VEVENT
END:VCALENDAR
