BEGIN:VCALENDAR
PRODID:-//eluceo/ical//2.0/EN
VERSION:2.0
CALSCALE:GREGORIAN
BEGIN:VEVENT
UID:619a3f023435716def9a86e7413537f7
DTSTAMP:20260421T140257Z
SUMMARY:TJF Executive Committee Mtng.
DESCRIPTION:Tidewater Jewish Foundation\nCalendar\nhttps://foundation.jewis
 hva.org/calendar/tjf-executive-committee-mtng\n\nTJF Executive Committee
DTSTART;TZID=America/New_York:20240124T120000
DTEND;TZID=America/New_York:20240124T140000
END:VEVENT
END:VCALENDAR
