BEGIN:VCALENDAR
PRODID:-//eluceo/ical//2.0/EN
VERSION:2.0
CALSCALE:GREGORIAN
BEGIN:VEVENT
UID:29e362a01388b03e296713037eb51ab3
DTSTAMP:20260421T040818Z
SUMMARY:TJF Grants Comm. Meeting
DESCRIPTION:Tidewater Jewish Foundation\nCalendar\nhttps://foundation.jewis
 hva.org/calendar/tjf-grants-comm-meeting\n\nTJF Grants Committee
DTSTART;TZID=America/New_York:20240212T120000
DTEND;TZID=America/New_York:20240212T140000
END:VEVENT
END:VCALENDAR
