BEGIN:VCALENDAR
PRODID:-//eluceo/ical//2.0/EN
VERSION:2.0
CALSCALE:GREGORIAN
BEGIN:VEVENT
UID:6a02e3410b78a8a45ed7a0f742907da5
DTSTAMP:20260423T003613Z
SUMMARY:TJF Grants Committee
DESCRIPTION:Tidewater Jewish Foundation\nCalendar\nhttps://foundation.jewis
 hva.org/calendar/tjf-grants-committee\n\nTJF Grants Committee
DTSTART;TZID=America/New_York:20230816T120000
DTEND;TZID=America/New_York:20230816T140000
END:VEVENT
END:VCALENDAR
