BEGIN:VCALENDAR
PRODID:-//eluceo/ical//2.0/EN
VERSION:2.0
CALSCALE:GREGORIAN
BEGIN:VEVENT
UID:7dd208752c095694786ea1ec974b4fd7
DTSTAMP:20260426T023738Z
SUMMARY:TJF Grants Committee
DESCRIPTION:Tidewater Jewish Foundation\nCalendar\nhttps://foundation.jewis
 hva.org/calendar/tjf-grants-committee-feb-2023\n\nMeeting room TBD.
DTSTART;TZID=America/New_York:20230217T100000
DTEND;TZID=America/New_York:20230217T120000
END:VEVENT
END:VCALENDAR
