BEGIN:VCALENDAR
PRODID:-//eluceo/ical//2.0/EN
VERSION:2.0
CALSCALE:GREGORIAN
BEGIN:VEVENT
UID:fbeb8de5b254e11047c7acbff28efbfc
DTSTAMP:20260425T134214Z
SUMMARY:TJF Invesment Committee
DESCRIPTION:Tidewater Jewish Foundation\nCalendar\nhttps://foundation.jewis
 hva.org/calendar/tjf-invesment-committee-may-2023\n\nMeeting room TBD.
DTSTART;TZID=America/New_York:20230522T120000
DTEND;TZID=America/New_York:20230522T140000
END:VEVENT
END:VCALENDAR
