BEGIN:VCALENDAR
PRODID:-//eluceo/ical//2.0/EN
VERSION:2.0
CALSCALE:GREGORIAN
BEGIN:VEVENT
UID:cabf6900f53ddff69528bb4f995c2e32
DTSTAMP:20260422T034559Z
SUMMARY:TJF Investment Comm. Mtng.
DESCRIPTION:Tidewater Jewish Foundation\nCalendar\nhttps://foundation.jewis
 hva.org/calendar/tjf-investment-comm-mtng\n\nTJF Investment Committee
DTSTART;TZID=America/New_York:20240221T120000
DTEND;TZID=America/New_York:20240221T140000
END:VEVENT
END:VCALENDAR
