BEGIN:VCALENDAR
PRODID:-//eluceo/ical//2.0/EN
VERSION:2.0
CALSCALE:GREGORIAN
BEGIN:VEVENT
UID:f1e9bea4e5cdd0cd234ad0a19d2f9ec0
DTSTAMP:20260422T214503Z
SUMMARY:TJF Investment Committee
DESCRIPTION:Tidewater Jewish Foundation\nCalendar\nhttps://foundation.jewis
 hva.org/calendar/tjf-investment-committee\n\nTJF Investment Committee
DTSTART;TZID=America/New_York:20230823T120000
DTEND;TZID=America/New_York:20230823T140000
END:VEVENT
END:VCALENDAR
