BEGIN:VCALENDAR
PRODID:-//eluceo/ical//2.0/EN
VERSION:2.0
CALSCALE:GREGORIAN
BEGIN:VEVENT
UID:73685ab3d400eec3b7af2e4f59a1a6f6
DTSTAMP:20260425T033238Z
SUMMARY:TJF Investment Committee Meeting
DESCRIPTION:Tidewater Jewish Foundation\nCalendar\nhttps://foundation.jewis
 hva.org/calendar/tjf-investment-committee-meeting\n\nTJF Investment Commit
 tee
DTSTART;TZID=America/New_York:20231115T120000
DTEND;TZID=America/New_York:20231115T140000
END:VEVENT
END:VCALENDAR
