BEGIN:VCALENDAR
PRODID:-//eluceo/ical//2.0/EN
VERSION:2.0
CALSCALE:GREGORIAN
BEGIN:VEVENT
UID:005797505b6477e1d5e7aae0ff3664f8
DTSTAMP:20260425T120546Z
SUMMARY:TJF Nominating Committee
DESCRIPTION:Tidewater Jewish Foundation\nCalendar\nhttps://foundation.jewis
 hva.org/calendar/tjf-nominating-committee-may-2023\n\nMeeting room TBD.
DTSTART;TZID=America/New_York:20230503T120000
DTEND;TZID=America/New_York:20230503T140000
END:VEVENT
END:VCALENDAR
