BEGIN:VCALENDAR
PRODID:-//eluceo/ical//2.0/EN
VERSION:2.0
CALSCALE:GREGORIAN
BEGIN:VEVENT
UID:4b89470af7a5438148c45bf61b40b024
DTSTAMP:20260425T231425Z
SUMMARY:TJF Professional Advisory Council Luncheon (Tentative)
DESCRIPTION:Tidewater Jewish Foundation\nCalendar\nhttps://foundation.jewis
 hva.org/calendar/tjf-professional-advisory-council-luncheon\n\nLocation TB
 A.
DTSTART;TZID=America/New_York:20221216T120000
DTEND;TZID=America/New_York:20221216T140000
END:VEVENT
END:VCALENDAR
