BEGIN:VCALENDAR
PRODID:-//eluceo/ical//2.0/EN
VERSION:2.0
CALSCALE:GREGORIAN
BEGIN:VEVENT
UID:ec0cee38c27f3af9af440d01d67cc7e5
DTSTAMP:20260422T115359Z
SUMMARY:To Life - Jewish Book Festival
DESCRIPTION:Tidewater Jewish Foundation\nCalendar\nhttps://foundation.jewis
 hva.org/calendar/to-life-book-festival-445495\n\nTo Life: The Past is Pres
 ent\n\n \n\n(Please wait for information below to load)
DTSTART;TZID=America/New_York:20231030T193000
DTEND;TZID=America/New_York:20231030T203000
END:VEVENT
END:VCALENDAR
