BEGIN:VCALENDAR
PRODID:-//eluceo/ical//2.0/EN
VERSION:2.0
CALSCALE:GREGORIAN
BEGIN:VEVENT
UID:093fba1ffd6a9a825f576c952c2f54d9
DTSTAMP:20260422T004533Z
SUMMARY:Torah on Tap
DESCRIPTION:Tidewater Jewish Foundation\nCalendar\nhttps://foundation.jewis
 hva.org/calendar/torah-on-tap-1698337200-450957\n\nRSVP required to\nNoell
 e@bethelnorfolk.com\nLocation of family host will be provided upon rsvp
DTSTART;TZID=America/New_York:20231108T190000
DTEND;TZID=America/New_York:20231108T210000
END:VEVENT
END:VCALENDAR
