BEGIN:VCALENDAR
PRODID:-//eluceo/ical//2.0/EN
VERSION:2.0
CALSCALE:GREGORIAN
BEGIN:VEVENT
UID:ae621db22410c7bda9f3ad8f714e542c
DTSTAMP:20260422T145242Z
SUMMARY:Torah on Trails
DESCRIPTION:Tidewater Jewish Foundation\nCalendar\nhttps://foundation.jewis
 hva.org/calendar/torah-on-trails-1698337874-450963\n\nOpen to everyone!  K
 id friendly! Enjoy a walk through the woods with Rabbi Koas.  This month's
  Torah on Trail will take place at Stumpy Lake Natural Area\n4797 Indian R
 iver Road\nVirginia Beach\, VA\nemail Rabbikoas@bethelnorfolk.com
DTSTART;TZID=America/New_York:20231119T140000
DTEND;TZID=America/New_York:20231119T160000
END:VEVENT
END:VCALENDAR
