BEGIN:VCALENDAR
PRODID:-//eluceo/ical//2.0/EN
VERSION:2.0
CALSCALE:GREGORIAN
BEGIN:VEVENT
UID:96b1c0cafcff0a73369ec7c2ffd3c100
DTSTAMP:20260421T180032Z
SUMMARY:Torah on Trails
DESCRIPTION:Tidewater Jewish Foundation\nCalendar\nhttps://foundation.jewis
 hva.org/calendar/torah-on-trails-1698343060-450978\n\nEnjoy a walk through
  nature with family and friends.  Lead by Rabbi Koas. \nFirst Landng State
  Park\n2500 Shore drive\nVirginia Beacg\, VA\n2:00-4:00\nemail Rabbi Koas 
 at rabbikoas@bethelnorfolk.com for more information
DTSTART;TZID=America/New_York:20231217T140000
DTEND;TZID=America/New_York:20231217T160000
END:VEVENT
END:VCALENDAR
