BEGIN:VCALENDAR
PRODID:-//eluceo/ical//2.0/EN
VERSION:2.0
CALSCALE:GREGORIAN
BEGIN:VEVENT
UID:67c8826f4eae79d01832bbb356d8d218
DTSTAMP:20260424T140730Z
SUMMARY:Traveling Chassidum Shabbaton-The Shabbos Project
DESCRIPTION:Tidewater Jewish Foundation\nCalendar\nhttps://foundation.jewis
 hva.org/calendar/traveling-chassidum-shabbaton-the-shabbos-project-1675796
 977-431188\n\nShabbaton featuring special guests:The Traveling Chassidum: 
 A weekend of unity\, song and dance while we celebrate shabbat as one peop
 le.\n\nFRIDAY: Kabbalat Shabbat at 6:00pm  followed by dinner at 7 pm\n\n
 SATURDAY: Shabbat services start at 8:45.  Kiddush to follow at roughly 1
 1:30.  Those interested in Shabbat lunch meals following kiddush please r
 each out to Shalom Markman At shalomamarkman@gmail.com\n\nSATURDAY NIGHT:
  Havdalah service at the JCC at 8 pm\nIn partnership with the Koniko...
DTSTART;TZID=America/New_York:20231103T174500
DTEND;TZID=America/New_York:20231104T210000
END:VEVENT
END:VCALENDAR
