BEGIN:VCALENDAR
PRODID:-//eluceo/ical//2.0/EN
VERSION:2.0
CALSCALE:GREGORIAN
BEGIN:VEVENT
UID:48edf6e7cf00f2bde7b6ef6b5eff74e4
DTSTAMP:20260423T221627Z
SUMMARY:Tzofim Friendship Caravan Community Concert
DESCRIPTION:Tidewater Jewish Foundation\nCalendar\nhttps://foundation.jewis
 hva.org/calendar/tzofim-friendship-caravan-community-concert-1687799360-44
 1630\n\nHead to the Reba and Sam Sandler Family Campus for this fun commun
 ity concert filled with song and dance. The Israeli Tzofim Friendship Cara
 van once again brings excitement\, energy\, and friendship to Tidewater wi
 th its live performance.\n\nThe Caravan’s celebration of Israeli culture
  is FREE to attend and will resound with all ages.\n\nFor more information
  and to register\, visit JewishVA.org/Caravan or contact Dave Flagler at D
 Flagler@UJFT.org.
DTSTART;TZID=America/New_York:20230728T173000
DTEND;TZID=America/New_York:20230728T193000
END:VEVENT
END:VCALENDAR
