BEGIN:VCALENDAR
PRODID:-//eluceo/ical//2.0/EN
VERSION:2.0
CALSCALE:GREGORIAN
BEGIN:VEVENT
UID:28bea8794b89d346913ca17a2d8fc078
DTSTAMP:20260424T052958Z
SUMMARY:UJFT Biennial Meeting & Installation of Officers
DESCRIPTION:Tidewater Jewish Foundation\nCalendar\nhttps://foundation.jewis
 hva.org/calendar/ujft-biennial-meeting-installation-of-officers-408396\n\n
 UJFT Biennial Meeting & Installation of Officers
DTSTART;TZID=America/New_York:20230614T183000
DTEND;TZID=America/New_York:20230614T200000
END:VEVENT
END:VCALENDAR
