BEGIN:VCALENDAR
PRODID:-//eluceo/ical//2.0/EN
VERSION:2.0
CALSCALE:GREGORIAN
BEGIN:VEVENT
UID:3509c230af777a5fbafba84398484301
DTSTAMP:20260422T215005Z
SUMMARY:UJFT Board of Directors
DESCRIPTION:Tidewater Jewish Foundation\nCalendar\nhttps://foundation.jewis
 hva.org/calendar/ujft-board-of-directors-439765\n\nUJFT Board of Directors
  
DTSTART;TZID=America/New_York:20230928T180000
DTEND;TZID=America/New_York:20230928T200000
END:VEVENT
END:VCALENDAR
