BEGIN:VCALENDAR
PRODID:-//eluceo/ical//2.0/EN
VERSION:2.0
CALSCALE:GREGORIAN
BEGIN:VEVENT
UID:200a63e14df5e166c64923c3b31cb3ef
DTSTAMP:20260421T211011Z
SUMMARY:UJFT Board of Directors
DESCRIPTION:Tidewater Jewish Foundation\nCalendar\nhttps://foundation.jewis
 hva.org/calendar/ujft-board-of-directors2-439766\n\nUJFT Board of Director
 s 
DTSTART;TZID=America/New_York:20231207T180000
DTEND;TZID=America/New_York:20231207T200000
END:VEVENT
END:VCALENDAR
