BEGIN:VCALENDAR
PRODID:-//eluceo/ical//2.0/EN
VERSION:2.0
CALSCALE:GREGORIAN
BEGIN:VEVENT
UID:bea92f230e3918b5f65be00804ffccf5
DTSTAMP:20260425T211728Z
SUMMARY:UJFT Finance Committee - January
DESCRIPTION:Tidewater Jewish Foundation\nCalendar\nhttps://foundation.jewis
 hva.org/calendar/ujft-finance-committee-january-413648\n\nUJFT Finance Com
 mittee
DTSTART;TZID=America/New_York:20230124T120000
DTEND;TZID=America/New_York:20230124T140000
END:VEVENT
END:VCALENDAR
