BEGIN:VCALENDAR
PRODID:-//eluceo/ical//2.0/EN
VERSION:2.0
CALSCALE:GREGORIAN
BEGIN:VEVENT
UID:f92c1d3f6d4facb0a0e029eec5062044
DTSTAMP:20260423T132904Z
SUMMARY:UJFT Finance Committee - June
DESCRIPTION:Tidewater Jewish Foundation\nCalendar\nhttps://foundation.jewis
 hva.org/calendar/ujft-finance-committee-june-413655\n\nUJFT Finance Commit
 tee
DTSTART;TZID=America/New_York:20230606T120000
DTEND;TZID=America/New_York:20230606T140000
END:VEVENT
END:VCALENDAR
