BEGIN:VCALENDAR
PRODID:-//eluceo/ical//2.0/EN
VERSION:2.0
CALSCALE:GREGORIAN
BEGIN:VEVENT
UID:7e435422213596c2b47170afb8afa041
DTSTAMP:20260424T181101Z
SUMMARY:UJFT Finance Committee May 2
DESCRIPTION:Tidewater Jewish Foundation\nCalendar\nhttps://foundation.jewis
 hva.org/calendar/ujft-finance-committee-may-2-413650\n\nUJFT Finance Commi
 ttee
DTSTART;TZID=America/New_York:20230502T120000
DTEND;TZID=America/New_York:20230502T140000
END:VEVENT
END:VCALENDAR
