BEGIN:VCALENDAR
PRODID:-//eluceo/ical//2.0/EN
VERSION:2.0
CALSCALE:GREGORIAN
BEGIN:VEVENT
UID:aa6b4d0eef3cbfdb386865825502dcf4
DTSTAMP:20260424T200028Z
SUMMARY:UJFT Finance Committee - May 23
DESCRIPTION:Tidewater Jewish Foundation\nCalendar\nhttps://foundation.jewis
 hva.org/calendar/ujft-finance-committee-may-23-413653\n\nUJFT Finance Comm
 ittee
DTSTART;TZID=America/New_York:20230523T120000
DTEND;TZID=America/New_York:20230523T140000
END:VEVENT
END:VCALENDAR
