BEGIN:VCALENDAR
PRODID:-//eluceo/ical//2.0/EN
VERSION:2.0
CALSCALE:GREGORIAN
BEGIN:VEVENT
UID:1dbb424068854790fe30cbd0cf7ec9f1
DTSTAMP:20260424T164250Z
SUMMARY:UJFT Finance Committee - May 30
DESCRIPTION:Tidewater Jewish Foundation\nCalendar\nhttps://foundation.jewis
 hva.org/calendar/ujft-finance-committee-may-30-413654\n\nUJFT Finance Comm
 ittee
DTSTART;TZID=America/New_York:20230530T120000
DTEND;TZID=America/New_York:20230530T140000
END:VEVENT
END:VCALENDAR
