BEGIN:VCALENDAR
PRODID:-//eluceo/ical//2.0/EN
VERSION:2.0
CALSCALE:GREGORIAN
BEGIN:VEVENT
UID:ec437747ea8ea4aa86ad8c14555cd41f
DTSTAMP:20260424T230850Z
SUMMARY:UJFT Finance Committee - May 9
DESCRIPTION:Tidewater Jewish Foundation\nCalendar\nhttps://foundation.jewis
 hva.org/calendar/ujft-finance-committee-may-9-413651\n\nUJFT Finance Commi
 ttee
DTSTART;TZID=America/New_York:20230509T120000
DTEND;TZID=America/New_York:20230509T140000
END:VEVENT
END:VCALENDAR
