BEGIN:VCALENDAR
PRODID:-//eluceo/ical//2.0/EN
VERSION:2.0
CALSCALE:GREGORIAN
BEGIN:VEVENT
UID:570649e84a4a155247c528711a26ee59
DTSTAMP:20260423T022006Z
SUMMARY:UJFT Finance Committee
DESCRIPTION:Tidewater Jewish Foundation\nCalendar\nhttps://foundation.jewis
 hva.org/calendar/ujft-finance-committee2-439770\n\nUJFT Finance Committee
DTSTART;TZID=America/New_York:20230912T120000
DTEND;TZID=America/New_York:20230912T140000
END:VEVENT
END:VCALENDAR
