BEGIN:VCALENDAR
PRODID:-//eluceo/ical//2.0/EN
VERSION:2.0
CALSCALE:GREGORIAN
BEGIN:VEVENT
UID:bd2b70e8e4c3343b3d22b0dd272ffbce
DTSTAMP:20260420T100736Z
SUMMARY:UJFT Finance Committee
DESCRIPTION:Tidewater Jewish Foundation\nCalendar\nhttps://foundation.jewis
 hva.org/calendar/ujft-finance-committee9-439777\n\nUJFT Finance Committee
DTSTART;TZID=America/New_York:20240528T120000
DTEND;TZID=America/New_York:20240528T140000
END:VEVENT
END:VCALENDAR
