BEGIN:VCALENDAR
PRODID:-//eluceo/ical//2.0/EN
VERSION:2.0
CALSCALE:GREGORIAN
BEGIN:VEVENT
UID:be0c12963103f0b02ba17116d5b30cd7
DTSTAMP:20260422T135616Z
SUMMARY:UJFT Israel + Overseas
DESCRIPTION:Tidewater Jewish Foundation\nCalendar\nhttps://foundation.jewis
 hva.org/calendar/ujft-israel-overseas3-439781\n\nUJFT Israel + Overseas
DTSTART;TZID=America/New_York:20240226T120000
DTEND;TZID=America/New_York:20240226T140000
END:VEVENT
END:VCALENDAR
