BEGIN:VCALENDAR
PRODID:-//eluceo/ical//2.0/EN
VERSION:2.0
CALSCALE:GREGORIAN
BEGIN:VEVENT
UID:ba6f3ea9753f9c712ed8ffb90ea8a373
DTSTAMP:20260421T043509Z
SUMMARY:UJFT Israel + Overseas
DESCRIPTION:Tidewater Jewish Foundation\nCalendar\nhttps://foundation.jewis
 hva.org/calendar/ujft-israel-overseas4-439782\n\nUJFT Israel + Overseas
DTSTART;TZID=America/New_York:20240318T120000
DTEND;TZID=America/New_York:20240318T140000
END:VEVENT
END:VCALENDAR
